BEGIN:VCALENDAR
VERSION:2.0
PRODID:-//LuganoPhotoDays - ECPv6.15.20//NONSGML v1.0//EN
CALSCALE:GREGORIAN
METHOD:PUBLISH
X-WR-CALNAME:LuganoPhotoDays
X-ORIGINAL-URL:https://www.luganophotodays.ch
X-WR-CALDESC:Eventi per LuganoPhotoDays
REFRESH-INTERVAL;VALUE=DURATION:PT1H
X-Robots-Tag:noindex
X-PUBLISHED-TTL:PT1H
BEGIN:VTIMEZONE
TZID:Europe/Zurich
BEGIN:DAYLIGHT
TZOFFSETFROM:+0100
TZOFFSETTO:+0200
TZNAME:CEST
DTSTART:20230326T010000
END:DAYLIGHT
BEGIN:STANDARD
TZOFFSETFROM:+0200
TZOFFSETTO:+0100
TZNAME:CET
DTSTART:20231029T010000
END:STANDARD
BEGIN:DAYLIGHT
TZOFFSETFROM:+0100
TZOFFSETTO:+0200
TZNAME:CEST
DTSTART:20240331T010000
END:DAYLIGHT
BEGIN:STANDARD
TZOFFSETFROM:+0200
TZOFFSETTO:+0100
TZNAME:CET
DTSTART:20241027T010000
END:STANDARD
BEGIN:DAYLIGHT
TZOFFSETFROM:+0100
TZOFFSETTO:+0200
TZNAME:CEST
DTSTART:20250330T010000
END:DAYLIGHT
BEGIN:STANDARD
TZOFFSETFROM:+0200
TZOFFSETTO:+0100
TZNAME:CET
DTSTART:20251026T010000
END:STANDARD
END:VTIMEZONE
BEGIN:VEVENT
DTSTART;VALUE=DATE:20240628
DTEND;VALUE=DATE:20240706
DTSTAMP:20260420T144643
CREATED:20230514T082338Z
LAST-MODIFIED:20240512T124116Z
UID:38834-1719532800-1720223999@www.luganophotodays.ch
SUMMARY:Armenia\, tra cultura e natura
DESCRIPTION:Un viaggio fotografico in Armenia è un’esperienza unica che ti consente di scoprire la bellezza di una terra antica e affascinante attraverso l’obiettivo della tua macchina fotografica.\nDurante il viaggio avrai l’opportunità di fotografare panorami mozzafiato\, monasteri antichi\, città millenarie e paesaggi rurali. Potrai anche incontrare la gente del posto e immergerti nella loro cultura\, scattando foto che raccontano storie e tradizioni secolari.
URL:https://www.luganophotodays.ch/eventi/armenia-tra-cultura-e-natura/
CATEGORIES:Viaggio
ATTACH;FMTTYPE=image/jpeg:https://www.luganophotodays.ch/wp-content/uploads/Armenia-armin-khanizad-tEhpO2vYYyU-unsplash.jpg
ORGANIZER;CN="ViaggiFotografici":MAILTO:info@viaggifotografici.ch
END:VEVENT
END:VCALENDAR